BEGIN:VCALENDAR
VERSION:2.0
PRODID:-//PaintEvents.ch - ECPv6.15.17.1//NONSGML v1.0//EN
CALSCALE:GREGORIAN
METHOD:PUBLISH
X-WR-CALNAME:PaintEvents.ch
X-ORIGINAL-URL:https://www.paintevents.ch
X-WR-CALDESC:Veranstaltungen für PaintEvents.ch
REFRESH-INTERVAL;VALUE=DURATION:PT1H
X-Robots-Tag:noindex
X-PUBLISHED-TTL:PT1H
BEGIN:VTIMEZONE
TZID:Europe/Zurich
BEGIN:DAYLIGHT
TZOFFSETFROM:+0100
TZOFFSETTO:+0200
TZNAME:CEST
DTSTART:20250330T010000
END:DAYLIGHT
BEGIN:STANDARD
TZOFFSETFROM:+0200
TZOFFSETTO:+0100
TZNAME:CET
DTSTART:20251026T010000
END:STANDARD
BEGIN:DAYLIGHT
TZOFFSETFROM:+0100
TZOFFSETTO:+0200
TZNAME:CEST
DTSTART:20260329T010000
END:DAYLIGHT
BEGIN:STANDARD
TZOFFSETFROM:+0200
TZOFFSETTO:+0100
TZNAME:CET
DTSTART:20261025T010000
END:STANDARD
BEGIN:DAYLIGHT
TZOFFSETFROM:+0100
TZOFFSETTO:+0200
TZNAME:CEST
DTSTART:20270328T010000
END:DAYLIGHT
BEGIN:STANDARD
TZOFFSETFROM:+0200
TZOFFSETTO:+0100
TZNAME:CET
DTSTART:20271031T010000
END:STANDARD
END:VTIMEZONE
BEGIN:VEVENT
DTSTART;TZID=Europe/Zurich:20260425T100000
DTEND;TZID=Europe/Zurich:20260425T123000
DTSTAMP:20260425T170725
CREATED:20260129T141453Z
LAST-MODIFIED:20260129T141453Z
UID:10003427-1777111200-1777120200@www.paintevents.ch
SUMMARY:Action Painting!
DESCRIPTION:  \n— Deutsch —(EN below) \n  \nUnd… ACTION! Erlebe beim Action Painting eine befreiende und kreative Auszeit\nDiesen Workshop wollen wir Euch bereits seit geraumer Zeit anbieten. Mit dem neuen Studio an der Limmatstrasse 73 ist es jetzt endlich so weit. Dort haben wir einen ganzen Bereich des Ateliers dem Action Painting gewidmet\, in dem Ihr Euch sorglos mit Pinseln\, Spritzpistolen und weiteren Utensilien austoben könnt. Unsere Künstlerin startet mit einer kurzen Erklärung von Grundlagen und Techniken und lässt Euch dann direkt an einem ersten Probewerk experimentieren (30 x 40cm Leinwand). Mit der gewonnen Erfahrung geht es dann an Euer zweites Werk auf einer bespannten Leinwand (1 Stk 40x50cm Leinwand inklusive). \n  \n\nDas Event ist für jeden geeignet – es werden keine Vorkenntnisse vorausgesetzt\nInklusive Bereitstellung von Schutzkleidung (Maler-Overall\, Schutzbrille). Dennoch empfehlen wir Euch\, nicht in Eurer feinsten Kleidung zu kommen.\nBitte bringt ein Paar alte Socken oder nehmt in Kauf\, dass Eure Socken etwas farbig werden.\nInklusivmaterial: 1 Stk. 30x40cm Leinwand zum Üben. 1 Stk. 40x50cm Leinwand. Alle Farben und Utensilien.\nUpgrade-Optionen: Du möchtest grössere Formate erstellen? Schau Dir unsere Upgrade Preisliste fürs Action Painting an. Ein Upgrade auf 50x70cm ist grundsätzlich immer möglich. Grössere Formate sind bei voll belegten Kursen ggf. aus Platzgründen nicht möglich aber Deine Künstlerin gibt Dir dazu vor Ort gerne Auskunft.\nDauer: ca. 2 bis 2.5h\nHinweis: Wahrscheinlich werden Eure Werke am Ende der Session noch zu nass für einen sicheren Transport sein. Ihr könnt sie dann bei uns trocknen lassen. Bitte hole dein Kunstwerk innerhalb von 2 Wochen nach der Fertigstellung ab. Auf Wunsch können wir es maximal einen Monat für dich aufbewahren. Nach Ablauf dieser Frist nutze bitte unseren Versandservice\, da wir eine weitere Lagerung leider nicht garantieren können.\n\n  \nBitte beachte\, dass wir dieses Event nur durchführen\, wenn sich mindestens 4 Personen spätestens 48h vor dem Event online angemeldet haben. Im Falle einer Absage unsererseits werden die Gäste mit einem Ticket per Mail informiert und das Ticket wird nach Wunsch entweder umgebucht oder komplett zurückerstattet. \n  \n  \n— English — \n  \nAnd… ACTION! Experience a liberating and creative time-out with Action Painting.\nWe have been wanting to offer you this workshop for quite some time now. With the new studio at Limmatstrasse 73\, it’s finally here. At this studio we have dedicated an entire area of the studio to Action Painting\, where you can let off steam with brushes\, spray guns and other utensils. Our artist will start with a short explanation of basics and techniques and then let you experiment directly on a first test piece (30 x 40cm canvas). After that you can apply what you’ve discovered to your second work on a regular wood-frame canvas (1 pc 40x50cm canvas included). \n  \n\nThe event is suitable for everyone – no previous experience is required.\nWe provide protective clothing (painter’s overalls\, goggles). Nevertheless we recommend that you do not come in your finest clothing.\nPlease bring a pair of old socks or accept that your socks will be a bit colored.\nIncluded materials: 1 pc. 30x40cm canvas for practice. 1 pc. 40x50cm wood-frame canvas. All paints and utensils.\nUpgrade Options: Want to create larger artworks or additional ones? Check out our UPGRADE pricelist for action painting. Upgrades to 50x70cm are generally always possible; larger formats might not be possible in fully booked sessions but you can always check with your artist.\nDuration: approx. 2 to 2.5h\n\n  \nNote: Most likely your artworks won’t be dry enough to be safely transported at the end of the session. You can leave them to dry at our studio. Please pick up your artwork within 2 weeks after it is ready for collection. Upon request\, we can store it for a maximum of one month. After this timeframe\, please use our shipping service as we unfortunately can’t guarantee further storage. \n  \nPlease note that we will only hold this event if at least 4 people have registered online at least 48h before the event. In case of a cancellation from our side\, guests who hold a ticket will be informed by mail and the ticket will be either rebooked or completely refunded as desired.
URL:https://www.paintevents.ch/event/action-painting-25-04-2026-morning/
LOCATION:PaintLounge Limmatstrasse 73\, Limmatstrasse 73\, Zürich\, 8005\, Schweiz
CATEGORIES:Action Painting
ATTACH;FMTTYPE=image/jpeg:https://www.paintevents.ch/wp-content/uploads/2024/06/action-painting-cover-1.jpg
GEO:47.3824711;8.5342186
X-APPLE-STRUCTURED-LOCATION;VALUE=URI;X-ADDRESS=PaintLounge Limmatstrasse 73 Limmatstrasse 73 Zürich 8005 Schweiz;X-APPLE-RADIUS=500;X-TITLE=Limmatstrasse 73:geo:8.5342186,47.3824711
END:VEVENT
BEGIN:VEVENT
DTSTART;TZID=Europe/Zurich:20260425T140000
DTEND;TZID=Europe/Zurich:20260425T163000
DTSTAMP:20260425T170725
CREATED:20260129T142134Z
LAST-MODIFIED:20260220T084520Z
UID:10003429-1777125600-1777134600@www.paintevents.ch
SUMMARY:Fluid Art on Pottery: Marble Masterpiece
DESCRIPTION:— Deutsch —\n\n\n\n\nÜber den Workshop:\nIn diesem gemütlichen\, praxisnahen Workshop entdeckst du\, wie schön Stroke & Coat-Glasuren über Keramik fliessen können. Anstatt klassisch mit dem Pinsel zu arbeiten\, giesst\, kippst und wirbelst du die Glasur\, um weiche\, marmorierte Effekte auf Tassen\, Schalen oder Tellern zu erzeugen. Die Farben verbinden sich auf ganz natürliche und oft überraschende Weise – jedes Stück wird zu einem kleinen Unikat. \n  \nWas du entdecken wirst:\n\nWie du dein Keramikstück optimal für Fluid Glazing vorbereitest\nStroke & Coat richtig anmischen\, damit die Glasur sauber fliesst\nGrundlegende Pour- und Swirl-Techniken\nWie du die Glasur kontrolliert über runde oder geschwungene Oberflächen führst\nTipps für saubere Ränder\, ausgewogene Muster und das Vermeiden von Pfützenbildung\n\n  \nWichtige Infos:\n  \n\nDas Event ist für jeden geeignet – es werden keine Vorkenntnisse vorausgesetzt\nAlle Materialien inklusive: Hochwertige Glasur (lebensmittelecht & spülmaschinenfest)\, Werkzeuge\, Pinsel und Blasenmischung\nMaterial: ein Schüssel (13 cm Durchmesser) – andere Rohlinge sind gegen Aufpreis vor Ort wählbar.\nDas Event wird auf English & Deutsch geleitet.\nEventdauer: ca. 2.5 Stunden\n\n\n\n\n\n  \nBitte beachte: Dieser Event findet nur statt\, wenn sich mindestens 4 Personen bis spätestens 72 Stunden vorher online angemeldet haben. Falls der Workshop abgesagt werden muss\, informieren wir dich per E-Mail und bieten dir entweder einen neuen Termin an oder erstatten dir dein Ticket zurück. \n  \n— English — \n\n\n\n\n\n\n\nAbout the Workshop:\nIn this cosy\, hands-on workshop you’ll explore how beautifully Stroke & Coat glazes can flow across pottery. Instead of traditional brushwork\, you’ll pour\, tilt and swirl the glaze to create dreamy marble effects on cups\, bowls or plates. The colours blend in organic\, surprising ways – every piece becomes a unique little artwork. \n\nWhat you’ll discover:\n\nHow to prep your ceramic piece for fluid glazing\nMixing Stroke & Coat to the right consistency for smooth pours\nFlow techniques like pour and swirl\nHow to guide the glaze across curved surfaces\nTips for clean rims\, balanced patterns and avoiding puddling\n\n  \nImportant Info:\n\n\n\nNo prior experience necessary\nAll materials: high-quality glaze that is both food-safe and dishwasher-safe\, tools\, brushes\, and all necessary materials .\none bowl (13 dm) and all the materials included. You can choose other bisques by paying the price difference onsite.\nLanguage of Instruction: English & German \nDuration of the event: approx. 2.5h\n\n\n\n\n\n\n  \n\n\n\n\nPlease note: This Event will only take place if at least 4 people signed up online 72hrs before the event. In case of cancellation\, we will inform you via email and offer you a rescheduling option or refund your ticket.
URL:https://www.paintevents.ch/event/fluidartpottery-25-04-2026/
LOCATION:PaintLounge Limmatstrasse 73\, Limmatstrasse 73\, Zürich\, 8005\, Schweiz
CATEGORIES:Pottery
ATTACH;FMTTYPE=image/jpeg:https://www.paintevents.ch/wp-content/uploads/2025/11/fluid-painting-pottery-2.jpg
GEO:47.3824711;8.5342186
X-APPLE-STRUCTURED-LOCATION;VALUE=URI;X-ADDRESS=PaintLounge Limmatstrasse 73 Limmatstrasse 73 Zürich 8005 Schweiz;X-APPLE-RADIUS=500;X-TITLE=Limmatstrasse 73:geo:8.5342186,47.3824711
END:VEVENT
BEGIN:VEVENT
DTSTART;TZID=Europe/Zurich:20260425T190000
DTEND;TZID=Europe/Zurich:20260425T213000
DTSTAMP:20260425T170725
CREATED:20260129T141815Z
LAST-MODIFIED:20260129T141815Z
UID:10003428-1777143600-1777152600@www.paintevents.ch
SUMMARY:Action Painting!
DESCRIPTION:  \n— Deutsch —(EN below) \n  \nUnd… ACTION! Erlebe beim Action Painting eine befreiende und kreative Auszeit\nDiesen Workshop wollen wir Euch bereits seit geraumer Zeit anbieten. Mit dem neuen Studio an der Limmatstrasse 73 ist es jetzt endlich so weit. Dort haben wir einen ganzen Bereich des Ateliers dem Action Painting gewidmet\, in dem Ihr Euch sorglos mit Pinseln\, Spritzpistolen und weiteren Utensilien austoben könnt. Unsere Künstlerin startet mit einer kurzen Erklärung von Grundlagen und Techniken und lässt Euch dann direkt an einem ersten Probewerk experimentieren (30 x 40cm Leinwand). Mit der gewonnen Erfahrung geht es dann an Euer zweites Werk auf einer bespannten Leinwand (1 Stk 40x50cm Leinwand inklusive). \n  \n\nDas Event ist für jeden geeignet – es werden keine Vorkenntnisse vorausgesetzt\nInklusive Bereitstellung von Schutzkleidung (Maler-Overall\, Schutzbrille). Dennoch empfehlen wir Euch\, nicht in Eurer feinsten Kleidung zu kommen.\nBitte bringt ein Paar alte Socken oder nehmt in Kauf\, dass Eure Socken etwas farbig werden.\nInklusivmaterial: 1 Stk. 30x40cm Leinwand zum Üben. 1 Stk. 40x50cm Leinwand. Alle Farben und Utensilien.\nUpgrade-Optionen: Du möchtest grössere Formate erstellen? Schau Dir unsere Upgrade Preisliste fürs Action Painting an. Ein Upgrade auf 50x70cm ist grundsätzlich immer möglich. Grössere Formate sind bei voll belegten Kursen ggf. aus Platzgründen nicht möglich aber Deine Künstlerin gibt Dir dazu vor Ort gerne Auskunft.\nDauer: ca. 2 bis 2.5h\nHinweis: Wahrscheinlich werden Eure Werke am Ende der Session noch zu nass für einen sicheren Transport sein. Ihr könnt sie dann bei uns trocknen lassen. Bitte hole dein Kunstwerk innerhalb von 2 Wochen nach der Fertigstellung ab. Auf Wunsch können wir es maximal einen Monat für dich aufbewahren. Nach Ablauf dieser Frist nutze bitte unseren Versandservice\, da wir eine weitere Lagerung leider nicht garantieren können.\n\n  \nBitte beachte\, dass wir dieses Event nur durchführen\, wenn sich mindestens 4 Personen spätestens 48h vor dem Event online angemeldet haben. Im Falle einer Absage unsererseits werden die Gäste mit einem Ticket per Mail informiert und das Ticket wird nach Wunsch entweder umgebucht oder komplett zurückerstattet. \n  \n  \n— English — \n  \nAnd… ACTION! Experience a liberating and creative time-out with Action Painting.\nWe have been wanting to offer you this workshop for quite some time now. With the new studio at Limmatstrasse 73\, it’s finally here. At this studio we have dedicated an entire area of the studio to Action Painting\, where you can let off steam with brushes\, spray guns and other utensils. Our artist will start with a short explanation of basics and techniques and then let you experiment directly on a first test piece (30 x 40cm canvas). After that you can apply what you’ve discovered to your second work on a regular wood-frame canvas (1 pc 40x50cm canvas included). \n  \n\nThe event is suitable for everyone – no previous experience is required.\nWe provide protective clothing (painter’s overalls\, goggles). Nevertheless we recommend that you do not come in your finest clothing.\nPlease bring a pair of old socks or accept that your socks will be a bit colored.\nIncluded materials: 1 pc. 30x40cm canvas for practice. 1 pc. 40x50cm wood-frame canvas. All paints and utensils.\nUpgrade Options: Want to create larger artworks or additional ones? Check out our UPGRADE pricelist for action painting. Upgrades to 50x70cm are generally always possible; larger formats might not be possible in fully booked sessions but you can always check with your artist.\nDuration: approx. 2 to 2.5h\n\n  \nNote: Most likely your artworks won’t be dry enough to be safely transported at the end of the session. You can leave them to dry at our studio. Please pick up your artwork within 2 weeks after it is ready for collection. Upon request\, we can store it for a maximum of one month. After this timeframe\, please use our shipping service as we unfortunately can’t guarantee further storage. \n  \nPlease note that we will only hold this event if at least 4 people have registered online at least 48h before the event. In case of a cancellation from our side\, guests who hold a ticket will be informed by mail and the ticket will be either rebooked or completely refunded as desired.
URL:https://www.paintevents.ch/event/action-painting-25-04-2026-evening/
LOCATION:PaintLounge Limmatstrasse 73\, Limmatstrasse 73\, Zürich\, 8005\, Schweiz
CATEGORIES:Action Painting
ATTACH;FMTTYPE=image/jpeg:https://www.paintevents.ch/wp-content/uploads/2024/06/action-painting-cover-1.jpg
GEO:47.3824711;8.5342186
X-APPLE-STRUCTURED-LOCATION;VALUE=URI;X-ADDRESS=PaintLounge Limmatstrasse 73 Limmatstrasse 73 Zürich 8005 Schweiz;X-APPLE-RADIUS=500;X-TITLE=Limmatstrasse 73:geo:8.5342186,47.3824711
END:VEVENT
BEGIN:VEVENT
DTSTART;TZID=Europe/Zurich:20260425T190000
DTEND;TZID=Europe/Zurich:20260425T213000
DTSTAMP:20260425T170725
CREATED:20260129T142416Z
LAST-MODIFIED:20260417T071234Z
UID:10003430-1777143600-1777152600@www.paintevents.ch
SUMMARY:The Play of Light: Figure Workshop with Acrylic and Oil Pastel
DESCRIPTION:— Deutsch — \n  \nErlebe eine entspannende Auszeit in Zürich!\nGönn dir eine kreative Auszeit und probier etwas Neues. Bei einem PaintEvent erstellst du mir der Unterstützung von lokalen Künstlern dein eigenes Kunstwerk\, das du am Ende des Abends mit nach Hause nimmst. Im Vordergrund stehen Entspannung\, die Freude am Malen und die Entfaltung deiner Kreativität. Wie wäre es mit paar Farbspritzer oder einem satten königsblau als Hintergrund? An Werkzeugen wie Spachteln\, Schwämme\, Zahnbürsten… mangelt es auf jeden Fall nicht 🙂 Probieren geht über studieren! \n  \nÜber den Workshop:\n\n\n\n\n\n\n\n\nBegib dich auf eine Entdeckungsreise mit unserem”The Play of Light: Figure Workshop”. Diese Sitzung ist speziell darauf ausgerichtet\, dein Verständnis und deine Fähigkeiten in der Darstellung der menschlichen Form zu vertiefen\, mit einem Fokus auf dem Zusammenspiel von Licht und Schatten unter Verwendung der lebendigen Medien Acryl und Ölpastell. \nIn diesem Workshop wirst du die Grundlagen der Figurenmalerei erforschen\, wobei der Schwerpunkt darauf liegt\, die Feinheiten von Schatten und Highlights einzufangen\, um eine lebensechte und dynamische Darstellung zu schaffen. Unser Künstler wird dich durch den Prozess der Beobachtung und Übersetzung der Komplexität der menschlichen Form auf deine Leinwand führen. \n  \nLernpunkte:\n\nVerständnis von Licht und Schatten: Lerne\, Licht und Schatten auf der menschlichen Figur zu beobachten und zu interpretieren\, was entscheidend ist\, um Tiefe und Realismus hinzuzufügen.\nAcryltechniken: Erlerne den Umgang mit Acrylfarben\, um Grundfarben und erste Formen aufzutragen\, und verstehe deren schnelltrocknende Natur für das Schichten.\nÖlpastellmethoden: Entdecke die Verwendung von Ölpastellen\, um Details\, Texturen und lebendige Highlights hinzuzufügen sowie für sanfte Übergänge zu mischen.\nAnatomie und Proportion: Frische dein Wissen über die grundlegende menschliche Anatomie und Proportionen auf\, um sicherzustellen\, dass deine Figuren sowohl ausdrucksstark als auch genau sind.\nMischen und Schichten: Meistere die Kunst\, Farben zu mischen und verschiedene Medien zu schichten\, um den gewünschten Effekt in Bezug auf Textur und Tiefe zu erreichen.\nKontrast und Komposition: Lerne\, Kontrasteffektiv zu nutzen\, um das Auge des Betrachters zu lenken und eine fesselnde Komposition zu erstellen.\n\n\nGut zum wissen:\n\n\n\n\n\n\n\n\nDas Event ist für jeden geeignet! Die Gesichtsproportionen werden wir gemeinsam abpausen. Wenn du noch gar nie gemalt hast\, könnte es sein\, dass du etwas länger brauchst bzw. wir empfehlen dir\, nicht allen Details nachzugehen. Bei Fragen immer gerne ungeniert melden! 🙂\nInstruktionen für dieses Bild erfolgen Schritt für Schritt\, gerne kannst du aber immer was anderes malen!\nEine Leinwand (30x40cm) und alle Materialien werden von uns bereitgestellt und sind im Preis inbegriffen\nMaterial: Hochwertige Acrylfarbe von fleury-art.ch. Erfahre mehr über die Farben hier.\nDas Event wird auf Englisch order Deutsch geleitet.\nEventdauer: ca. 2.5h\n\nBitte beachte\, dass wir dieses Event nur durchführen\, wenn sich mindestens 4 Personen spätestens 48h vor dem Event online angemeldet haben. Im Falle einer Absage werden die Gäste mit einem Ticket per Mail informiert und das Ticket wird nach Wunsch entweder umgebucht oder komplett zurückerstattet. \n  \n  \n— English — \n  \nEnjoy a Fun and Relaxing PaintEvent in Zurich!\nTry something new and treat yourself to a colorful night out. During a PaintEvent one of our local artists supports you in creating your very own masterpiece (for your to take home). The goal is to create a fun and stress-free environment for you to slow down and let your creativity flow. Why not try tools like sponges\, tooth brush or palette knife to create different effects such as sprinkle or splash? \n  \nAbout the Workshop:\nEmbark on a journey of discovery with our “The Play of Light: Figure Workshop”. This session is specifically designed to deepen your understanding and skills in portraying the human form with a focus on the interplay of light and shadow\, using the vibrant mediums of acrylics and oil pastels. \nIn this workshop\, you’ll explore the fundamentals of figure painting\, emphasizing how to capture the subtleties of shadows and highlights to create a lifelike and dynamic representation. Our artist will guide you through the process of observing and translating the complexities of the human form onto your canvas. \n  \nLearning Points:\n\nUnderstanding Light and Shadow: Learn how to observe and interpret light and shadow on the human figure\, crucial for adding depth and realism.\nAcrylic Techniques: Gain proficiency in using acrylics to lay down base colors and initial shapes\, understanding their quick-drying nature for layering.\nOil Pastel Methods: Explore the use of oil pastels for adding details\, textures\, and vibrant highlights\, as well as blending for smooth transitions.\nAnatomy and Proportion: Brush up on basic human anatomy and proportions to ensure your figures are both expressive and accurate.\nMixing and Layering: Master the art of mixing colors and layering different mediums to achieve the desired effect in terms of texture and depth.\nContrast and Composition: Learn how to use contrast effectively to guide the viewer’s eye and create a compelling composition.\n\n  \nGood to Know:\n\nNo Prior Painting Experience Necessary. If it’s your very first time painting\, you might wanna calculate a bit more time to finish the painting. Also\, we recommend to skip a detail or two and/or call for assistance when you need!\nStep by Step Instructions\, and you also have the option to trace the shapes and forms\, so you can concentrate on coloring\, but you are always welcome to paint something else (precise or abstract) !\nOne Canvas (30x40cm) and all Painting Materials Provided and Included in the Ticket Price\nMedium: Premium Acrylic colors by fleury-art.ch. Learn more about the paint here.\nLanguage of Instruction: English/German\nDuration of the Event: ca 2.5hrs\n\nPlease note: This event will take place only if at least 4 people sign up 48hrs before the event. In case of cancellation\, guests with a ticket will get a notification via email. The ticket can be refunded completely or rescheduled.
URL:https://www.paintevents.ch/event/figure-25-04-2026/
LOCATION:PaintLounge Limmatstrasse 73\, Limmatstrasse 73\, Zürich\, 8005\, Schweiz
CATEGORIES:Acryl (Motif)
ATTACH;FMTTYPE=image/jpeg:https://www.paintevents.ch/wp-content/uploads/2026/01/figure-workshop-4.jpg
GEO:47.3824711;8.5342186
X-APPLE-STRUCTURED-LOCATION;VALUE=URI;X-ADDRESS=PaintLounge Limmatstrasse 73 Limmatstrasse 73 Zürich 8005 Schweiz;X-APPLE-RADIUS=500;X-TITLE=Limmatstrasse 73:geo:8.5342186,47.3824711
END:VEVENT
END:VCALENDAR