BEGIN:VCALENDAR
VERSION:2.0
PRODID:-//PaintEvents.ch - ECPv6.15.17.1//NONSGML v1.0//EN
CALSCALE:GREGORIAN
METHOD:PUBLISH
X-ORIGINAL-URL:https://www.paintevents.ch/en/
X-WR-CALDESC:Events for PaintEvents.ch
REFRESH-INTERVAL;VALUE=DURATION:PT1H
X-Robots-Tag:noindex
X-PUBLISHED-TTL:PT1H
BEGIN:VTIMEZONE
TZID:Europe/Zurich
BEGIN:DAYLIGHT
TZOFFSETFROM:+0100
TZOFFSETTO:+0200
TZNAME:CEST
DTSTART:20220327T010000
END:DAYLIGHT
BEGIN:STANDARD
TZOFFSETFROM:+0200
TZOFFSETTO:+0100
TZNAME:CET
DTSTART:20221030T010000
END:STANDARD
BEGIN:DAYLIGHT
TZOFFSETFROM:+0100
TZOFFSETTO:+0200
TZNAME:CEST
DTSTART:20230326T010000
END:DAYLIGHT
BEGIN:STANDARD
TZOFFSETFROM:+0200
TZOFFSETTO:+0100
TZNAME:CET
DTSTART:20231029T010000
END:STANDARD
BEGIN:DAYLIGHT
TZOFFSETFROM:+0100
TZOFFSETTO:+0200
TZNAME:CEST
DTSTART:20240331T010000
END:DAYLIGHT
BEGIN:STANDARD
TZOFFSETFROM:+0200
TZOFFSETTO:+0100
TZNAME:CET
DTSTART:20241027T010000
END:STANDARD
END:VTIMEZONE
BEGIN:VEVENT
DTSTART;TZID=Europe/Zurich:20230423T130000
DTEND;TZID=Europe/Zurich:20230423T153000
DTSTAMP:20260422T015427
CREATED:20230226T193123Z
LAST-MODIFIED:20230412T115022Z
UID:10001414-1682254800-1682263800@www.paintevents.ch
SUMMARY:Guided Painting: Baby Panda (watercolor)
DESCRIPTION:— Künstler / Artist — \n[tlpteam id=”50406″ title=”Alena”]\n— English — \nEnjoy a Fun and Relaxing Watercolor Workshop in Zurich!\nTry something new and treat yourself to a colorful night out. During a PaintEvent one of our local artists supports you in creating your very own masterpiece (for you to take home). The goal is to create a fun and stress-free environment for you to slow down and let your creativity flow. \nAbout the workshop: \nWe are more than happy to welcome Alena to be our new guest host for this special watercolor event. Together we will paint this beautiful painting using wet on wet technique. The process is broken down into easy steps. The wet paint is laid on wet or damp paper\, the colours flow and blend into one another in beautiful\, unexpected ways\, creating a diffused effect. Let your creativity flow! \n No Prior Painting Experience Necessary – Step by Step Guidance through the whole process.\n Frist time or frequent painters – all kind of questions are more than welcome! Our host will be happy to assist and chat. Inspiration is all around 🙂\n All Painting Materials Provided and Included in the Ticket Price. The original size is A4. If you prefer\, we have A5\, A6 and A3 as well.\n if you finish earlier: why not paint a 2nd one? no extra cost 🙂\n You like the subject of the painting but not the colors? No problem\, we always keep all colors ready. Our host is happy to show you how to create your desired color tone!\n Language of Instruction: English \nBitte beachte\, dass wir dieses Event nur durchführen\, wenn sich mindestens 4 Personen spätestens 48h vor dem Event online angemeldet haben. Im Falle einer Absage werden die Gäste mit einem Ticket per Mail informiert und das Ticket wird nach Wunsch entweder umgebucht oder komplett zurückerstattet. \n— Deutsch — \nErlebe einen entspannenden Abend mit Wasserfarben!\nGönn dir eine kreative Auszeit und probier etwas Neues. Bei einem PaintEvent erstellst du mit der Unterstützung von lokalen Künstlern dein eigenes Kunstwerk\, das du am Ende des Abends mit nach Hause nimmst. Im Vordergrund stehen Entspannung\, die Freude am Malen und die Entfaltung deiner Kreativität. \nDas Event ist für jeden geeignet – es werden keine Vorkenntnisse vorausgesetzt\n Hast du noch nie gemalt? Malst du die ganze Zeit? Fragen und Ideen zum Austausch sind herzlich willkommen! Inspiration findest du links und rechts 🙂\n Alle Malmaterialien werden von uns bereitgestellt und sind im Preis inbegriffen. Die Grösse vom Originalbild ist A4. Gerne kannst du A6-A3 kostenfrei beziehen!\n Für die schnelleren unter uns: Male noch ein zweites Bild! (ohne extra Kosten:))\n Das Event wird auf Englisch geleitet.\n Du magst das Motiv aber die Farben gefallen dir nicht? Kein Problem\, wir haben immer viele Farben im Studio und zeigen dir\, wie dein gewünschter Farbton gemischt werden kann! \nPlease note: This event will take place only if at least 4 people sign up 48hrs before the event. In case of cancellation\, guests with a ticket will get a notification via email. The ticket can be refunded completely or rescheduled.
URL:https://www.paintevents.ch/en/event/babypanda-23-04-2023/
ATTACH;FMTTYPE=image/jpeg:https://www.paintevents.ch/wp-content/uploads/2023/02/3D808242-CF23-4C6C-9156-63440C5CB323.jpeg
END:VEVENT
BEGIN:VEVENT
DTSTART;TZID=Europe/Zurich:20230422T130000
DTEND;TZID=Europe/Zurich:20230422T153000
DTSTAMP:20260422T015427
CREATED:20230223T140638Z
LAST-MODIFIED:20230417T105149Z
UID:10001410-1682168400-1682177400@www.paintevents.ch
SUMMARY:Alcohol Ink\, Structure & Resin: Dream Islands
DESCRIPTION:[tlpteam id=”25488″ title=”Ana”]\nAlcohol Ink\, Structure & Resin\nIt’s time to let go and go with the flow! Be mesmerised by the incredible effects created when resin and alcohol inks combine with structure paste and gold. You can create an abstract image of a tropical island in the middle of the ocean or Swiss snowy mountains surrounded by a beautiful sunny blue sky. But be warned – it can be addictive!  You’ll love watching the inks react with the resin to make the intricate shapes and details. It’s a very relaxing process. \nOur class will cover the basics of the resin and alcohol ink techniques and inspire you to go on and create your own amazing tropical paradise. People really are fascinated by how these look\, and you will be too. \nEven if you’ve never used resin or alcohol inks before\, everything you need to know is covered in the class. It’s fun\, easy\, relaxing and rewarding. \n\nWhat you will learn:\n\nLearn how to create amazing 3d art pieces using resin and alcohol inks\nWork with structure paste so you can create different compositions\nPlay with color\, have fun and learn to use new materials\nCreate your dream “holiday tropis islands”\n\n No Prior Painting Experience Necessary. If it’s your very first time painting\, you might wanna calculate a bit more time to finish the painting. Also\, we recommend to skip a detail or two and/or call for assistance when you need!\n Step by Step Instructions\, but you are always welcome to paint something else!\n 1 Ceramic Plate (33x25cm) and all Painting Materials Provided and Included in the Ticket Price\n Medium: Premium alcohol ink and resin materials .\n Language of Instruction: English\n Duration of the Event: ca 2hrs \nImportant: For optimal drying process and avoiding any changes to your painting\, we recommend that you leave your artwork in the studio at least overnight and pick it up at later. Alternatively we can also pack it and ship it to you for an additional 15 CHF per parcel (payable at the workshop in cash or TWINT). If you want to take your artwork home right away\, that’s definitely also possible but “at your own risk” (needs to be transported as horizontal as possible). \nPlease note: This event will take place only if at least 4 people sign up 48hrs before the event. In case of cancellation\, guests with a ticket will get a notification via email. The ticket can be refunded completely or rescheduled.
URL:https://www.paintevents.ch/en/event/dreamislands-22-04-2023/
ATTACH;FMTTYPE=image/png:https://www.paintevents.ch/wp-content/uploads/2022/01/dream-island-3.png
END:VEVENT
END:VCALENDAR