BEGIN:VCALENDAR
VERSION:2.0
PRODID:-//PaintEvents.ch - ECPv6.15.17.1//NONSGML v1.0//EN
CALSCALE:GREGORIAN
METHOD:PUBLISH
X-ORIGINAL-URL:https://www.paintevents.ch/en/
X-WR-CALDESC:Events for PaintEvents.ch
REFRESH-INTERVAL;VALUE=DURATION:PT1H
X-Robots-Tag:noindex
X-PUBLISHED-TTL:PT1H
BEGIN:VTIMEZONE
TZID:Europe/Zurich
BEGIN:DAYLIGHT
TZOFFSETFROM:+0100
TZOFFSETTO:+0200
TZNAME:CEST
DTSTART:20240331T010000
END:DAYLIGHT
BEGIN:STANDARD
TZOFFSETFROM:+0200
TZOFFSETTO:+0100
TZNAME:CET
DTSTART:20241027T010000
END:STANDARD
BEGIN:DAYLIGHT
TZOFFSETFROM:+0100
TZOFFSETTO:+0200
TZNAME:CEST
DTSTART:20250330T010000
END:DAYLIGHT
BEGIN:STANDARD
TZOFFSETFROM:+0200
TZOFFSETTO:+0100
TZNAME:CET
DTSTART:20251026T010000
END:STANDARD
BEGIN:DAYLIGHT
TZOFFSETFROM:+0100
TZOFFSETTO:+0200
TZNAME:CEST
DTSTART:20260329T010000
END:DAYLIGHT
BEGIN:STANDARD
TZOFFSETFROM:+0200
TZOFFSETTO:+0100
TZNAME:CET
DTSTART:20261025T010000
END:STANDARD
END:VTIMEZONE
BEGIN:VEVENT
DTSTART;TZID=Europe/Zurich:20250724T190000
DTEND;TZID=Europe/Zurich:20250724T213000
DTSTAMP:20260420T224536
CREATED:20250530T094536Z
LAST-MODIFIED:20250716T113057Z
UID:10002942-1753383600-1753392600@www.paintevents.ch
SUMMARY:Guided Painting: Matterhorn in Summer (watercolor)
DESCRIPTION:— English — \n  \nEnjoy a Fun and Relaxing Watercolor Workshop in Zurich!\nTry something new and treat yourself to a colorful night out. During a PaintEvent one of our local artists supports you in creating your very own masterpiece (for you to take home). The goal is to create a fun and stress-free environment for you to slow down and let your creativity flow. \n  \nAbout the workshop:\n  \nWe are more than happy to welcome Alena to be our new guest host for this special watercolor event.\nYou will paint this beautiful serene mountainscape. Alena will break down the whole process into easy steps. The wet paint is laid on wet paper\, the colours flow and blend into one another in beautiful\, unexpected ways\, creating a diffused effect. Let your creativity flow! \n  \n\n No Prior Painting Experience Necessary – Step by Step Guidance through the whole process.\nFrist time or frequent painters – all kind of questions are more than welcome! Our host will be happy to assist and chat. Inspiration is all around 🙂\nAll Painting Materials Provided and Included in the Ticket Price. The original size is A4. If you prefer\, we have A5\, A6 and A3 as well.\nIf you finish earlier: why not paint a 2nd one? no extra cost 🙂\nYou like the subject of the painting but not the colors? No problem\, we always keep all colors ready. Our host is happy to show you how to create your desired color tone!\nLanguage of Instruction: English\n\n  \nBitte beachte\, dass wir dieses Event nur durchführen\, wenn sich mindestens 4 Personen spätestens 48h vor dem Event online angemeldet haben. Im Falle einer Absage werden die Gäste mit einem Ticket per Mail informiert und das Ticket wird nach Wunsch entweder umgebucht oder komplett zurückerstattet. \n  \n— Deutsch — \n  \nErlebe einen entspannenden Abend mit Wasserfarben!\nGönn dir eine kreative Auszeit und probier etwas Neues. Bei einem PaintEvent erstellst du mir der Unterstützung von lokalen Künstlern dein eigenes Kunstwerk\, das du am Ende des Abends mit nach Hause nimmst. Im Vordergrund stehen Entspannung\, die Freude am Malen und die Entfaltung deiner Kreativität. \n  \n\nDas Event ist für jeden geeignet – es werden keine Vorkenntnisse vorausgesetzt\nHast du noch nie gemalt? Malst du die ganze Zeit? Fragen und Ideen zum Austausch sind herzlich willkommen! Inspiration findest du links und rechts 🙂\nAlle Malmaterialien werden von uns bereitgestellt und sind im Preis inbegriffen. Die Grösse vom Originalbild ist A4. Gerne kannst du A6-A3 kostenfrei beziehen!\nFür die schnelleren unter uns: Male noch ein zweites Bild! (ohne extra Kosten:))\nDas Event wird auf Englisch geleitet.\nDu magst das Motiv aber die Farben gefallen dir nicht? Kein Problem\, wir haben immer viele Farben im Studio und zeigen dir\, wie dein gewünschter Farbton gemischt werden kann!\n\n\nPlease note: This event will take place only if at least 4 people sign up 48hrs before the event. In case of cancellation\, guests with a ticket will get a notification via email. The ticket can be refunded completely or rescheduled.
URL:https://www.paintevents.ch/en/event/summermatterhorn-24-07-2025/
LOCATION:PaintLounge Limmatstrasse 73\, Limmatstrasse 73\, Zürich\, 8005\, Schweiz
CATEGORIES:Aquarelle (Motif)
ATTACH;FMTTYPE=image/jpeg:https://www.paintevents.ch/wp-content/uploads/2023/05/matterhorn-in-summer.jpg
GEO:47.3824711;8.5342186
X-APPLE-STRUCTURED-LOCATION;VALUE=URI;X-ADDRESS=PaintLounge Limmatstrasse 73 Limmatstrasse 73 Zürich 8005 Schweiz;X-APPLE-RADIUS=500;X-TITLE=Limmatstrasse 73:geo:8.5342186,47.3824711
END:VEVENT
BEGIN:VEVENT
DTSTART;TZID=Europe/Zurich:20250725T190000
DTEND;TZID=Europe/Zurich:20250725T213000
DTSTAMP:20260420T224536
CREATED:20250529T130447Z
LAST-MODIFIED:20250529T130447Z
UID:10002941-1753470000-1753479000@www.paintevents.ch
SUMMARY:NEON Action Painting!
DESCRIPTION:  \n— Deutsch —(EN below) \n  \nMach dich bereit\, deine Kreativität zu entfachen mit unserem brandneuen Workshop: Action Painting mit Neonfarben unter UV-Licht!\n  \nStell dir eine lebendige Explosion von Farben vor\, die unter dem UV-Licht\, während du deine künstlerische Energie frei entfalten lässt. Unser neues Studio an der Limmatstrasse 73 ist jetzt mit einer speziellen UV-Licht-Zone ausgestattet\, perfekt für dieses aufregende Erlebnis. Dir stehen verschiedene Neonfarben und Werkzeuge zur Verfügung—Pinsel\, Spritzpistolen und mehr—um atemberaubende\, leuchtende Kunstwerke zu schaffen. \nUnser erfahrener Künstler wird den Workshop mit einer kurzen Einführung in die grundlegenden Techniken starten\, bevor du dein erstes Kunstwerk auf einer 30x40cm Leinwand kreierst. Sobald du den Dreh raus hast\, geht’s weiter zu deinem Hauptkunstwerk auf einer 40x50cm Holzrahmen-Leinwand\, die im Workshop inbegriffen ist. \nKomm und erlebe ein unvergessliches\, leuchtendes Abenteuer! \n  \n • Das Event ist für jeden geeignet – es werden keine Vorkenntnisse vorausgesetzt \n• Inklusive Bereitstellung von Schutzkleidung (Maler-Overall\, Schutzbrille). Dennoch empfehlen wir Euch\, nicht in Eurer feinsten Kleidung zu kommen. \n• Bitte bringt ein Paar alte Socken oder nehmt in Kauf\, dass Eure Socken etwas farbig werden. \n• Inklusivmaterial: 1 Stk. 30x40cm und 1 Stk. 40x50cm Leinwand. Alle Farben und Utensilien. \n• Upgrade-Optionen: Du möchtest grössere Formate erstellen? Schau Dir unsere Upgrade Preisliste fürs Action Painting an. Ein Upgrade auf 50x70cm ist grundsätzlich immer möglich. Grössere Formate sind bei voll belegten Kursen ggf. aus Platzgründen nicht möglich aber Deine Künstlerin gibt Dir dazu vor Ort gerne Auskunft. \n• Dauer: ca. 2.5 h \n• Hinweis: Wahrscheinlich werden Eure Werke am Ende der Session noch zu nass für einen sicheren Transport sein. Ihr könnt sie dann bei uns trocknen lassen und eine Abholung vereinbaren oder nach der Session unseren Versandservice (bis 40x50cm\, Versand von grösseren Formaten auf Anfrage). \n  \nBitte beachte\, dass wir dieses Event nur durchführen\, wenn sich mindestens 4 Personen spätestens 48h vor dem Event online angemeldet haben. Im Falle einer Absage unsererseits werden die Gäste mit einem Ticket per Mail informiert und das Ticket wird nach Wunsch entweder umgebucht oder komplett zurückerstattet. \n  \n  \n— English — \n  \nGet ready to ignite your creativity with our brand-new workshop: Action Painting with Neon Colors under UV Light!\n  \nImagine a vibrant explosion of colors glowing brilliantly under the UV light as you let your artistic energy run wild. Our new studio space at Limmatstrasse 73 is now equipped with a dedicated UV light zone\, perfect for this electrifying experience. You’ll have an array of neon paints and tools at your disposal—brushes\, spray guns\, and more—to create stunning\, luminous artworks. \nOur experienced artist will kick things off with a quick rundown of essential techniques before you dive into your first piece on a 30×40 canvas. Once you’ve gotten the hang of it\, you’ll move on to your main masterpiece on a 40x50cm wood-frame canvas\, which is included in the workshop. \nJoin us for an unforgettable\, glowing adventure in art! \n  \n • The event is suitable for everyone – no previous experience is required. \n• We provide protective clothing (painter’s overalls\, goggles). Nevertheless we recommend that you do not come in your finest clothing. \n• Please bring a pair of old socks or accept that your socks will be a bit colored. \n•  Included materials: 1 pc. 30x40cm und 1 pc. 40x50cm wood-frame canvas. All paints and utensils. \n• Upgrade Options: Want to create larger artworks or additional ones? Check out our UPGRADE pricelist for action painting. Upgrades to 50x70cm are generally always possible; larger formats might not be possible in fully booked sessions but you can always check with your artist. \n• Duration: approx. 2.5 h \n• Note: Most likely your artworks won’t be dry enough to be safely transported at the end of the session. You can leave them to dry at our studio and arrange a pick-up time or book our shipping service after the session (up to 40x50cm canvas size\, shipping of larger sizes upon request). \n  \nPlease note that we will only hold this event if at least 4 people have registered online at least 48h before the event. In case of a cancellation from our side\, guests who hold a ticket will be informed by mail and the ticket will be either rebooked or completely refunded as desired.
URL:https://www.paintevents.ch/en/event/neon-action-painting-25-07-2025/
LOCATION:PaintLounge Limmatstrasse 73\, Limmatstrasse 73\, Zürich\, 8005\, Schweiz
CATEGORIES:Action Painting
ATTACH;FMTTYPE=image/jpeg:https://www.paintevents.ch/wp-content/uploads/2024/09/neon-AP-cover-2.jpg
GEO:47.3824711;8.5342186
X-APPLE-STRUCTURED-LOCATION;VALUE=URI;X-ADDRESS=PaintLounge Limmatstrasse 73 Limmatstrasse 73 Zürich 8005 Schweiz;X-APPLE-RADIUS=500;X-TITLE=Limmatstrasse 73:geo:8.5342186,47.3824711
END:VEVENT
BEGIN:VEVENT
DTSTART;TZID=Europe/Zurich:20250726T140000
DTEND;TZID=Europe/Zurich:20250726T160000
DTSTAMP:20260420T224536
CREATED:20250530T101518Z
LAST-MODIFIED:20250714T135015Z
UID:10002944-1753538400-1753545600@www.paintevents.ch
SUMMARY:Resin Workshop: Rainbow Ocean Board
DESCRIPTION:  \nBitte beachten: Auch wenn wir ausschliesslich hochwertige Künstlerprodukte verwenden\, entstehen bei diesem Kurs gewisse Dämpfe im Raum. Aus diesem Grund ist der Kurs für schwangere Frauen\, Kinder unter 15 Jahren und Personen mit sensitiven Atemwegen oder Asthma nicht geeignet. Zudem erfordert das Material eine gewisse Geschicklichkeit\, was die Teilnahme für jüngere Kinder ebenfalls erschwert. \nPlease note: Although we exclusively use high-quality artist products\, this course generates certain fumes in the room. For this reason\, the course is not suitable for pregnant women\, children under the age of 15 and individuals with sensitive airways or asthma. Additionally\, handling the materials requires a certain level of skill\, which makes participation challenging for younger children. \n\n  \n— Deutsch — \n  \n\nDieser Workshop ist ein Hands-On Schnupperkurs und der perfekte Einstieg in die “Resin Kunst”. In diesem Workshop wird unsere Künstlerin Euch die grundlegenden Techniken zeigen und Euch Schritt für Schritt anleiten\, wie Ihr Schicht für Schicht einen Regenbogen-Ozean kreiert. Es werden mehrere Schichten von Harz in verschiedenen Farben gegossen werden\, die zusammen einen wunderschönen Regenbogen-Effekt erzeugen. Zum Abschluss wird mit einer weissen Schicht gearbeitet\, die Ihr dann mit Luft und Schwerkraft manipuliert\, bis sie an Meeresschaum erinnert. \nDieses farbenfrohe Ozean-Motiv eignet sich perfekt\, um Resin-Kunst zu entdecken: Die Klarheit\, Konsistenz und der Glanz von Resin geben das Aussehen von Wasser auf eine Weise wieder\, die man mit keinem anderen Medium erreichen kann. Unsere Künstlerin wird Euch zeigen\, wie einfach es ist\, Eure eigene atemberaubende Regenbogen-Ozean-Landschaft zu erschaffen. \n  \n\n\n\n\n• Perfekt für Anfänger: Keine vorherige Erfahrung mit Resin notwendig. \n• Alle Materialien werden gestellt und sind im Ticketpreis enthalten. \n• Material: 1 Holzleinwand (25cm Durchmesser) und MasterCast Resin von EliChem (ungiftig und frei von Lösungsmitteln für eine einfache und sichere Anwendung\, auch in unserem Online Shop erhältlich)\, verschiedene Farbpigmente. \n• Wichtig: Um eine optimale Trocknung ohne Verfliessen zu garantieren\, empfehlen wir\, dass Ihr die Werke über Nacht bei uns im Atelier lasst und später abholen kommt. Alternativ bieten wir auch Verpackung und Versand \n• Gut zu wissen: Bei der Arbeit mit Kunstharz  sind immer Plastikhandschuhe erforderlich\, um die Hände zu schützen (stellen wir bereit). Wir stellen auch Schürzen zur Verfügung\, empfehlen Euch aber dennoch lieber ältere Kleidung anzuziehen. Der Raum ist während der Arbeit mit Harz immer gut belüftet. Eine spezielle Atemmaske ist bei diesem Workshop aufgrund der geringen Menge an Resin\, unserem sehr geräumigen Atelier und der begrenzten Teilnehmerzahl nicht erforderlich. Obwohl unser Resin zertifiziert ungiftig ist\, raten wir schwangeren Frauen und Kinder vorsichtshalber von der Teilnahme ab. \n• Sprache der Unterweisung: Deutsch & Englisch \n• Dauer der Veranstaltung: ca. 2h \n  \nBitte beachtet: Dieses Event findet nur statt\, wenn sich mindestens 4 Personen 72h vor dem Event online angemeldet haben. Im Falle einer Absage informieren wir Euch per E-Mail und bieten Euch eine Umbuchung oder Rückerstattung an. \n\n\n\n\n  \n  \n— English — \n  \n\n\n\n\nThis workshop is a hands-on introductory course and the perfect entry into “resin art.” In this workshop\, our artist will show you the basic techniques and guide you step-by-step in creating a rainbow ocean layer by layer. Several layers of resin in different colors will be poured to create a beautiful rainbow effect. Finally\, a white layer will be added\, which you will manipulate with air and gravity until it resembles sea foam. \nThis colorful ocean motif is perfect for discovering resin art: the clarity\, consistency\, and shine of resin replicate the look of water in a way that no other medium can achieve. Our artist will show you how easy it is to create your own stunning rainbow ocean landscape\, specially for beginners. \n  \n• No prior experience with resin necessary \n• All Painting Materials Provided and Included in the Ticket Price. \n• Material: One Wooden board (25cm diameter)\,  MasterCast Resin by EliChem (non-toxic free from solvents for easy and safe application\, also available in our Online Shop)\, different color pigments. \n• Important: For optimal drying process and avoiding any changes to your painting\, we recommend that you leave your artwork in the studio at least overnight and pick it up at later. Alternatively we can also choose our shipping service \n• Good to know: Plastic gloves are always needed when working with resin from measuring to finished paintings to protect hands. The room is always well ventilated while working with resin. A special breathing mask is not needed at this workshop based on the small amount of resin used in our very spacious studio and the limited participant number. Although the resin we use is certified non-toxic\, out of extra caution\, we do not recommend this workshop for pregnant women and kids. \n• Language of Instruction: English & German \n• Duration of the event: approx. 2h \n  \nPlease note: This Event will only take place if at least 4 people signed up online 72hrs before the event. In case of cancellation\, we will inform you via email and offer you a rescheduling option or refund your ticket.
URL:https://www.paintevents.ch/en/event/oceanboard-26-07-2025/
LOCATION:PaintLounge Limmatstrasse 73\, Limmatstrasse 73\, Zürich\, 8005\, Schweiz
CATEGORIES:Resin Art (Epoxidharz)
ATTACH;FMTTYPE=image/jpeg:https://www.paintevents.ch/wp-content/uploads/2024/05/resin-rainbow.jpg
GEO:47.3824711;8.5342186
X-APPLE-STRUCTURED-LOCATION;VALUE=URI;X-ADDRESS=PaintLounge Limmatstrasse 73 Limmatstrasse 73 Zürich 8005 Schweiz;X-APPLE-RADIUS=500;X-TITLE=Limmatstrasse 73:geo:8.5342186,47.3824711
END:VEVENT
BEGIN:VEVENT
DTSTART;TZID=Europe/Zurich:20250726T140000
DTEND;TZID=Europe/Zurich:20250726T163000
DTSTAMP:20260420T224536
CREATED:20250529T124639Z
LAST-MODIFIED:20250721T101253Z
UID:10002939-1753538400-1753547400@www.paintevents.ch
SUMMARY:Action Painting!
DESCRIPTION:  \n— Deutsch —(EN below) \n  \nUnd… ACTION! Erlebe beim Action Painting eine befreiende und kreative Auszeit\nDiesen Workshop wollen wir Euch bereits seit geraumer Zeit anbieten. Mit dem neuen Studio an der Limmatstrasse 73 ist es jetzt endlich so weit. Dort haben wir einen ganzen Bereich des Ateliers dem Action Painting gewidmet\, in dem Ihr Euch sorglos mit Pinseln\, Spritzpistolen und weiteren Utensilien austoben könnt. Unsere Künstlerin startet mit einer kurzen Erklärung von Grundlagen und Techniken und lässt Euch dann direkt an einem ersten Probewerk experimentieren (30 x 40cm Leinwand). Mit der gewonnen Erfahrung geht es dann an Euer zweites Werk auf einer bespannten Leinwand (1 Stk 40x50cm Leinwand inklusive). \n  \n • Das Event ist für jeden geeignet – es werden keine Vorkenntnisse vorausgesetzt \n• Inklusive Bereitstellung von Schutzkleidung (Maler-Overall\, Schutzbrille). Dennoch empfehlen wir Euch\, nicht in Eurer feinsten Kleidung zu kommen. \n• Bitte bringt ein Paar alte Socken oder nehmt in Kauf\, dass Eure Socken etwas farbig werden. \n• Inklusivmaterial: 1 Stk. 30x40cm Leinwand zum Üben. 1 Stk. 40x50cm Leinwand. Alle Farben und Utensilien. \n• Upgrade-Optionen: Du möchtest grössere Formate erstellen? Schau Dir unsere Upgrade Preisliste fürs Action Painting an. Ein Upgrade auf 50x70cm ist grundsätzlich immer möglich. Grössere Formate sind bei voll belegten Kursen ggf. aus Platzgründen nicht möglich aber Deine Künstlerin gibt Dir dazu vor Ort gerne Auskunft. \n• Dauer: ca. 2 bis 2.5h \n• Hinweis: Wahrscheinlich werden Eure Werke am Ende der Session noch zu nass für einen sicheren Transport sein. Ihr könnt sie dann bei uns trocknen lassen und eine Abholung vereinbaren oder nach der Session unseren Versandservice (bis 40x50cm\, Versand von grösseren Formaten auf Anfrage). \n  \nBitte beachte\, dass wir dieses Event nur durchführen\, wenn sich mindestens 4 Personen spätestens 48h vor dem Event online angemeldet haben. Im Falle einer Absage unsererseits werden die Gäste mit einem Ticket per Mail informiert und das Ticket wird nach Wunsch entweder umgebucht oder komplett zurückerstattet. \n  \n  \n— English — \n  \nAnd… ACTION! Experience a liberating and creative time-out with Action Painting.\nWe have been wanting to offer you this workshop for quite some time now. With the new studio at Limmatstrasse 73\, it’s finally here. At this studio we have dedicated an entire area of the studio to Action Painting\, where you can let off steam with brushes\, spray guns and other utensils. Our artist will start with a short explanation of basics and techniques and then let you experiment directly on a first test piece (30 x 40cm canvas). After that you can apply what you’ve discovered to your second work on a regular wood-frame canvas (1 pc 40x50cm canvas included). \n  \n • The event is suitable for everyone – no previous experience is required. \n• We provide protective clothing (painter’s overalls\, goggles). Nevertheless we recommend that you do not come in your finest clothing. \n• Please bring a pair of old socks or accept that your socks will be a bit colored. \n•  Included materials: 1 pc. 30x40cm canvas for practice. 1 pc. 40x50cm wood-frame canvas. All paints and utensils. \n• Upgrade Options: Want to create larger artworks or additional ones? Check out our UPGRADE pricelist for action painting. Upgrades to 50x70cm are generally always possible; larger formats might not be possible in fully booked sessions but you can always check with your artist. \n• Duration: approx. 2 to 2.5h \n• Note: Most likely your artworks won’t be dry enough to be safely transported at the end of the session. You can leave them to dry at our studio and arrange a pick-up time or book our shipping service after the session (up to 40x50cm canvas size\, shipping of larger sizes upon request). \n  \nPlease note that we will only hold this event if at least 4 people have registered online at least 48h before the event. In case of a cancellation from our side\, guests who hold a ticket will be informed by mail and the ticket will be either rebooked or completely refunded as desired.
URL:https://www.paintevents.ch/en/event/action-painting-26-07-2025/
LOCATION:PaintLounge Limmatstrasse 73\, Limmatstrasse 73\, Zürich\, 8005\, Schweiz
CATEGORIES:Action Painting
ATTACH;FMTTYPE=image/jpeg:https://www.paintevents.ch/wp-content/uploads/2024/06/action-painting-cover-1.jpg
GEO:47.3824711;8.5342186
X-APPLE-STRUCTURED-LOCATION;VALUE=URI;X-ADDRESS=PaintLounge Limmatstrasse 73 Limmatstrasse 73 Zürich 8005 Schweiz;X-APPLE-RADIUS=500;X-TITLE=Limmatstrasse 73:geo:8.5342186,47.3824711
END:VEVENT
BEGIN:VEVENT
DTSTART;TZID=Europe/Zurich:20250727T130000
DTEND;TZID=Europe/Zurich:20250727T190000
DTSTAMP:20260420T224536
CREATED:20250530T100512Z
LAST-MODIFIED:20250725T124955Z
UID:10002943-1753621200-1753642800@www.paintevents.ch
SUMMARY:Masterpiece on a Grand Scale: Eternal Summer
DESCRIPTION:Unleash Your Creativity on a Giant Canvas\n  \nHave you ever wanted to paint a large canvas—really large—so you can hang it proudly on your wall and be inspired by it every day as a reminder of your unlimited creativity? Now’s your chance! You’ll paint on a 100×80 cm canvas\, the largest size we offer and the biggest you can carry home. \nIn this workshop\, we’ll paint in an impressionist style\, allowing free rein to imagination and improvisation. Embrace the fantasy of tachism\, where brushstrokes go where your conscience doesn’t expect\, but your subconscious delights. Each canvas\, receiving stripes of colors and washes\, almost acquires its own soul\, filled with serene and blissful freedom. \nThis workshop is designed to release the real painter in you\, guided by the muse of inspiration. You’ll paint on the wall\, on the floor\, and on the table using brushes\, spray\, and other surprise tools. Get ready to create something truly unique and beautiful! \n  \nWhat you will learn:\n  \n\nChoosing the right colors according with the feedback/feeling you want to receive when you will look at  your painting \nPaint an abstract background\nBuilding complexity layer by layer\nHow to create a composition and its rules \nLearn how to balance the composition of your painting\nHow to give the painting an Impressionism touch\nLearn how to use different types of sprays for surprising effects\nLearn how to paint flowers in a impressionist style\nLearn how to create small controlled accidents for unique marks\nDeciding when the painting is finished\nTips about varnishing\n\n  \n• No Prior Painting Experience Necessary. If it’s your very first time painting\, you might wanna calculate a bit more time to finish the painting. Also\, we recommend to skip a detail or two and/or call for assistance when you need! \n• Step by Step Instructions\, but you are always welcome to paint something else! \n• one 100×80 canvas and all Painting Materials Provided and Included in the Ticket Price \n• Medium: Premium Acrylic colors by fleury-art.ch. Learn more about the paint here. \n• Language of Instruction: English \n• Duration of the Event: ca. 6hrs \n  \nImportant: For optimal drying process and avoiding any changes to your painting\, we recommend that you leave your artwork in the studio at least overnight and pick it up at later. Alternatively you can also use our shipping service. If you want to take your artwork home right away\, that’s definitely also possible but “at your own risk” (needs to be transported as horizontal as possible). \n  \nPlease note: This event will take place only if at least 5 people sign up 48hrs before the event. In case of cancellation\, guests with a ticket will get a notification via email. The ticket can be refunded completely or rescheduled.
URL:https://www.paintevents.ch/en/event/eternalsummer-27-07-2025/
LOCATION:PaintLounge Limmatstrasse 73\, Limmatstrasse 73\, Zürich\, 8005\, Schweiz
CATEGORIES:Acryl (Motif)
ATTACH;FMTTYPE=image/jpeg:https://www.paintevents.ch/wp-content/uploads/2024/05/enternal-summer-6.jpg
GEO:47.3824711;8.5342186
X-APPLE-STRUCTURED-LOCATION;VALUE=URI;X-ADDRESS=PaintLounge Limmatstrasse 73 Limmatstrasse 73 Zürich 8005 Schweiz;X-APPLE-RADIUS=500;X-TITLE=Limmatstrasse 73:geo:8.5342186,47.3824711
END:VEVENT
END:VCALENDAR