BEGIN:VCALENDAR
VERSION:2.0
PRODID:-//PaintEvents.ch - ECPv6.15.17.1//NONSGML v1.0//EN
CALSCALE:GREGORIAN
METHOD:PUBLISH
X-ORIGINAL-URL:https://www.paintevents.ch/en/
X-WR-CALDESC:Events for PaintEvents.ch
REFRESH-INTERVAL;VALUE=DURATION:PT1H
X-Robots-Tag:noindex
X-PUBLISHED-TTL:PT1H
BEGIN:VTIMEZONE
TZID:Europe/Zurich
BEGIN:DAYLIGHT
TZOFFSETFROM:+0100
TZOFFSETTO:+0200
TZNAME:CEST
DTSTART:20240331T010000
END:DAYLIGHT
BEGIN:STANDARD
TZOFFSETFROM:+0200
TZOFFSETTO:+0100
TZNAME:CET
DTSTART:20241027T010000
END:STANDARD
BEGIN:DAYLIGHT
TZOFFSETFROM:+0100
TZOFFSETTO:+0200
TZNAME:CEST
DTSTART:20250330T010000
END:DAYLIGHT
BEGIN:STANDARD
TZOFFSETFROM:+0200
TZOFFSETTO:+0100
TZNAME:CET
DTSTART:20251026T010000
END:STANDARD
BEGIN:DAYLIGHT
TZOFFSETFROM:+0100
TZOFFSETTO:+0200
TZNAME:CEST
DTSTART:20260329T010000
END:DAYLIGHT
BEGIN:STANDARD
TZOFFSETFROM:+0200
TZOFFSETTO:+0100
TZNAME:CET
DTSTART:20261025T010000
END:STANDARD
END:VTIMEZONE
BEGIN:VEVENT
DTSTART;TZID=Europe/Zurich:20250916T190000
DTEND;TZID=Europe/Zurich:20250916T213000
DTSTAMP:20260420T212121
CREATED:20250724T140636Z
LAST-MODIFIED:20250916T101819Z
UID:10003012-1758049200-1758058200@www.paintevents.ch
SUMMARY:Movie Poster Painting: Echoes of Dune (Guided)
DESCRIPTION:— Deutsch — \n  \nErlebe einen kreativen Ausgang mit uns!\nGönn dir eine bunte Auszeit und probier etwas Neues. Bei einem PaintEvent erstellst du mit der Unterstützung von lokalen Künstlern dein eigenes Kunstwerk\, das du am Ende des Events mit nach Hause nimmst. Im Vordergrund stehen Entspannung\, die Freude am Malen und die Entfaltung deiner Kreativität. \n  \n• Das Event ist für jeden geeignet! Wenn du noch gar nie gemalt hast\, könnte es sein\, dass du etwas länger brauchst bzw. wir empfehlen dir\, nicht allen Details nachzugehen. Bei Fragen immer gerne ungeniert melden! 🙂 \n• Instruktionen für dieses Bild erfolgen Schritt für Schritt\, gerne kannst du aber immer was anderes malen! \n• Eine Leinwand (30x40cm) und alle Materialien werden von uns bereitgestellt und sind im Preis inbegriffen \n• Sprache: Je nach Gruppe Englisch oder Deutsch. \n• Eventdauer: ca. 2.5h \n  \nBitte beachte\, dass wir dieses Event nur durchführen\, wenn sich mindestens 4 Personen spätestens 48h vor dem Event online angemeldet haben. Im Falle einer Absage werden die Gäste mit einem Ticket per Mail informiert und das Ticket wird nach Wunsch entweder umgebucht oder komplett zurückerstattet. \n  \n— English —\n  \nEnjoy a Fun evening with us!\nTry something new and treat yourself to a colorful time! During a PaintEvent one of our local artists supports you in creating your very own masterpiece (for your to take home). The goal is to create a fun and stress-free environment for you to slow down and let your creativity flow. \n  \n• No Prior Painting Experience Necessary. If it’s your very first time painting\, you might wanna calculate a bit more time to finish the painting. Also\, we recommend to skip a detail or two and/or call for assistance when you need! \n• Step by Step Instructions\, but you are always welcome to paint something else! \n• All Painting Materials Provided and Included in the Ticket Price (1 piece of 30x40cm canvas included) \n• Language of Instruction: English or German\, depends on the group \n• Duration of the Event: ca 2.5hrs \n  \nPlease note: This event will take place only if at least 4 people sign up 48hrs before the event. In case of cancellation\, guests with a ticket will get a notification via email. The ticket can be refunded completely or rescheduled.
URL:https://www.paintevents.ch/en/event/dune-16-09-2025/
LOCATION:PaintLounge Limmatstrasse 73\, Limmatstrasse 73\, Zürich\, 8005\, Schweiz
CATEGORIES:Acryl (Motif)
ATTACH;FMTTYPE=image/jpeg:https://www.paintevents.ch/wp-content/uploads/2024/05/dune-copy.jpg
GEO:47.3824711;8.5342186
X-APPLE-STRUCTURED-LOCATION;VALUE=URI;X-ADDRESS=PaintLounge Limmatstrasse 73 Limmatstrasse 73 Zürich 8005 Schweiz;X-APPLE-RADIUS=500;X-TITLE=Limmatstrasse 73:geo:8.5342186,47.3824711
END:VEVENT
BEGIN:VEVENT
DTSTART;TZID=Europe/Zurich:20250917T183000
DTEND;TZID=Europe/Zurich:20250917T213000
DTSTAMP:20260420T212121
CREATED:20250801T165056Z
LAST-MODIFIED:20250819T195713Z
UID:10003026-1758133800-1758144600@www.paintevents.ch
SUMMARY:Guided Painting: Golden Sunset
DESCRIPTION:— Deutsch — \n  \nErlebe eine entspannende Auszeit in Zürich!\nGönn dir eine kreative Auszeit und probier etwas Neues. Bei einem PaintEvent erstellst du mir der Unterstützung von lokalen Künstlern dein eigenes Kunstwerk\, das du am Ende des Abends mit nach Hause nimmst. Im Vordergrund stehen Entspannung\, die Freude am Malen und die Entfaltung deiner Kreativität. Wie wäre es mit paar Farbspritzer oder einem satten königsblau als Hintergrund? An Werkzeugen wie Spachteln\, Schwämme\, Zahnbürsten… mangelt es auf jeden Fall nicht 🙂 Probieren geht über studieren! \n  \n\nDas Event ist für jeden geeignet! Wenn du noch gar nie gemalt hast\, könnte es sein\, dass du etwas länger brauchst bzw. wir empfehlen dir\, nicht allen Details nachzugehen. Bei Fragen immer gerne ungeniert melden! 🙂\nInstruktionen für dieses Bild erfolgen Schritt für Schritt\, gerne kannst du aber immer was anderes malen!\nEine Leinwand (30x40cm) und alle Materialien werden von uns bereitgestellt und sind im Preis inbegriffen\nMaterial: Hochwertige Acrylfarbe von fleury-art.ch. Erfahre mehr über die Farben hier.\nDas Event wird auf Englisch geleitet.\nEventdauer: ca. 3 h\n\n  \nBitte beachte\, dass wir dieses Event nur durchführen\, wenn sich mindestens 6 Personen spätestens 48h vor dem Event online angemeldet haben. Im Falle einer Absage werden die Gäste mit einem Ticket per Mail informiert und das Ticket wird nach Wunsch entweder umgebucht oder komplett zurückerstattet. \n  \n— English — \n  \nEnjoy a Fun and Relaxing PaintEvent in Zurich!\nTry something new and treat yourself to a colorful night out. During a PaintEvent one of our local artists supports you in creating your very own masterpiece (for your to take home). The goal is to create a fun and stress-free environment for you to slow down and let your creativity flow. Why not try tools like sponges\, tooth brush or palette knife to create different effects such as sprinkle or splash? \n  \n\nNo Prior Painting Experience Necessary. If it’s your very first time painting\, you might wanna calculate a bit more time to finish the painting. Also\, we recommend to skip a detail or two and/or call for assistance when you need!\nStep by Step Instructions\, but you are always welcome to paint something else!\nOne Canvas (30x40cm) and all Painting Materials Provided and Included in the Ticket Price\nMedium: Premium Acrylic colors by fleury-art.ch. Learn more about the paint here.\nLanguage of Instruction: English\n\nDuration of the Event: ca. 3 hrs\n\n  \nPlease note: This event will take place only if at least 6 people sign up 48hrs before the event. In case of cancellation\, guests with a ticket will get a notification via email. The ticket can be refunded completely or rescheduled.
URL:https://www.paintevents.ch/en/event/goldensunset-17-09-2025/
LOCATION:PaintLounge Limmatstrasse 73\, Limmatstrasse 73\, Zürich\, 8005\, Schweiz
CATEGORIES:Acryl (Motif)
ATTACH;FMTTYPE=image/jpeg:https://www.paintevents.ch/wp-content/uploads/2025/08/Golden-sunset.jpg
GEO:47.3824711;8.5342186
X-APPLE-STRUCTURED-LOCATION;VALUE=URI;X-ADDRESS=PaintLounge Limmatstrasse 73 Limmatstrasse 73 Zürich 8005 Schweiz;X-APPLE-RADIUS=500;X-TITLE=Limmatstrasse 73:geo:8.5342186,47.3824711
END:VEVENT
BEGIN:VEVENT
DTSTART;TZID=Europe/Zurich:20250918T190000
DTEND;TZID=Europe/Zurich:20250918T213000
DTSTAMP:20260420T212121
CREATED:20250724T141748Z
LAST-MODIFIED:20250724T141748Z
UID:10003013-1758222000-1758231000@www.paintevents.ch
SUMMARY:NEW Guided Painting: Windmill (watercolor)
DESCRIPTION:— English — \n  \nEnjoy a Fun and Relaxing Watercolor Workshop in Zurich!\nTry something new and treat yourself to a colorful timet out. During a PaintEvent one of our local artists supports you in creating your very own masterpiece (for you to take home). The goal is to create a fun and stress-free environment for you to slow down and let your creativity flow. \n  \nAbout the workshop:\n  \nWe are more than happy to welcome Alena to be our new guest host for this special watercolor event.\nYou will paint this beautiful serene motif. Alena will break down the whole process into easy steps. The wet paint is laid on wet paper\, the colours flow and blend into one another in beautiful\, unexpected ways\, creating a diffused effect. Let your creativity flow! \n  \n\n No Prior Painting Experience Necessary – Step by Step Guidance through the whole process.\nFrist time or frequent painters – all kind of questions are more than welcome! Our host will be happy to assist and chat. Inspiration is all around 🙂\nAll Painting Materials Provided and Included in the Ticket Price. The original size is A4. If you prefer\, we have A5\, A6 and A3 as well.\nIf you finish earlier: why not paint a 2nd one? no extra cost 🙂\nYou like the subject of the painting but not the colors? No problem\, we always keep all colors ready. Our host is happy to show you how to create your desired color tone!\nLanguage of Instruction: English\n\n  \nBitte beachte\, dass wir dieses Event nur durchführen\, wenn sich mindestens 4 Personen spätestens 48h vor dem Event online angemeldet haben. Im Falle einer Absage werden die Gäste mit einem Ticket per Mail informiert und das Ticket wird nach Wunsch entweder umgebucht oder komplett zurückerstattet. \n  \n— Deutsch — \n  \nErlebe einen entspannenden Abend mit Wasserfarben!\nGönn dir eine kreative Auszeit und probier etwas Neues. Bei einem PaintEvent erstellst du mir der Unterstützung von lokalen Künstlern dein eigenes Kunstwerk\, das du am Ende des Abends mit nach Hause nimmst. Im Vordergrund stehen Entspannung\, die Freude am Malen und die Entfaltung deiner Kreativität. \n  \n\nDas Event ist für jeden geeignet – es werden keine Vorkenntnisse vorausgesetzt\nHast du noch nie gemalt? Malst du die ganze Zeit? Fragen und Ideen zum Austausch sind herzlich willkommen! Inspiration findest du links und rechts 🙂\nAlle Malmaterialien werden von uns bereitgestellt und sind im Preis inbegriffen. Die Grösse vom Originalbild ist A4. Gerne kannst du A6-A3 kostenfrei beziehen!\nFür die schnelleren unter uns: Male noch ein zweites Bild! (ohne extra Kosten:))\nDas Event wird auf Englisch geleitet.\nDu magst das Motiv aber die Farben gefallen dir nicht? Kein Problem\, wir haben immer viele Farben im Studio und zeigen dir\, wie dein gewünschter Farbton gemischt werden kann!\n\n\n  \nPlease note: This event will take place only if at least 4 people sign up 48hrs before the event. In case of cancellation\, guests with a ticket will get a notification via email. The ticket can be refunded completely or rescheduled.
URL:https://www.paintevents.ch/en/event/silentdrift-18-09-2025/
LOCATION:PaintLounge Limmatstrasse 73\, Limmatstrasse 73\, Zürich\, 8005\, Schweiz
CATEGORIES:Aquarelle (Motif)
ATTACH;FMTTYPE=image/jpeg:https://www.paintevents.ch/wp-content/uploads/2025/07/Windmill.jpg
GEO:47.3824711;8.5342186
X-APPLE-STRUCTURED-LOCATION;VALUE=URI;X-ADDRESS=PaintLounge Limmatstrasse 73 Limmatstrasse 73 Zürich 8005 Schweiz;X-APPLE-RADIUS=500;X-TITLE=Limmatstrasse 73:geo:8.5342186,47.3824711
END:VEVENT
BEGIN:VEVENT
DTSTART;TZID=Europe/Zurich:20250919T190000
DTEND;TZID=Europe/Zurich:20250919T213000
DTSTAMP:20260420T212121
CREATED:20250724T103609Z
LAST-MODIFIED:20250724T103609Z
UID:10003009-1758308400-1758317400@www.paintevents.ch
SUMMARY:NEON Action Painting!
DESCRIPTION:  \n— Deutsch —(EN below) \n  \nMach dich bereit\, deine Kreativität zu entfachen mit unserem brandneuen Workshop: Action Painting mit Neonfarben unter UV-Licht!\n  \nStell dir eine lebendige Explosion von Farben vor\, die unter dem UV-Licht\, während du deine künstlerische Energie frei entfalten lässt. Unser neues Studio an der Limmatstrasse 73 ist jetzt mit einer speziellen UV-Licht-Zone ausgestattet\, perfekt für dieses aufregende Erlebnis. Dir stehen verschiedene Neonfarben und Werkzeuge zur Verfügung—Pinsel\, Spritzpistolen und mehr—um atemberaubende\, leuchtende Kunstwerke zu schaffen. \nUnser erfahrener Künstler wird den Workshop mit einer kurzen Einführung in die grundlegenden Techniken starten\, bevor du dein erstes Kunstwerk auf einer 30x40cm Leinwand kreierst. Sobald du den Dreh raus hast\, geht’s weiter zu deinem Hauptkunstwerk auf einer 40x50cm Holzrahmen-Leinwand\, die im Workshop inbegriffen ist. \nKomm und erlebe ein unvergessliches\, leuchtendes Abenteuer! \n  \n • Das Event ist für jeden geeignet – es werden keine Vorkenntnisse vorausgesetzt \n• Inklusive Bereitstellung von Schutzkleidung (Maler-Overall\, Schutzbrille). Dennoch empfehlen wir Euch\, nicht in Eurer feinsten Kleidung zu kommen. \n• Bitte bringt ein Paar alte Socken oder nehmt in Kauf\, dass Eure Socken etwas farbig werden. \n• Inklusivmaterial: 1 Stk. 30x40cm und 1 Stk. 40x50cm Leinwand. Alle Farben und Utensilien. \n• Upgrade-Optionen: Du möchtest grössere Formate erstellen? Schau Dir unsere Upgrade Preisliste fürs Action Painting an. Ein Upgrade auf 50x70cm ist grundsätzlich immer möglich. Grössere Formate sind bei voll belegten Kursen ggf. aus Platzgründen nicht möglich aber Deine Künstlerin gibt Dir dazu vor Ort gerne Auskunft. \n• Dauer: ca. 2.5 h \n• Hinweis: Wahrscheinlich werden Eure Werke am Ende der Session noch zu nass für einen sicheren Transport sein. Ihr könnt sie dann bei uns trocknen lassen und eine Abholung vereinbaren oder nach der Session unseren Versandservice (bis 40x50cm\, Versand von grösseren Formaten auf Anfrage). \n  \nBitte beachte\, dass wir dieses Event nur durchführen\, wenn sich mindestens 4 Personen spätestens 48h vor dem Event online angemeldet haben. Im Falle einer Absage unsererseits werden die Gäste mit einem Ticket per Mail informiert und das Ticket wird nach Wunsch entweder umgebucht oder komplett zurückerstattet. \n  \n  \n— English — \n  \nGet ready to ignite your creativity with our brand-new workshop: Action Painting with Neon Colors under UV Light!\n  \nImagine a vibrant explosion of colors glowing brilliantly under the UV light as you let your artistic energy run wild. Our new studio space at Limmatstrasse 73 is now equipped with a dedicated UV light zone\, perfect for this electrifying experience. You’ll have an array of neon paints and tools at your disposal—brushes\, spray guns\, and more—to create stunning\, luminous artworks. \nOur experienced artist will kick things off with a quick rundown of essential techniques before you dive into your first piece on a 30×40 canvas. Once you’ve gotten the hang of it\, you’ll move on to your main masterpiece on a 40x50cm wood-frame canvas\, which is included in the workshop. \nJoin us for an unforgettable\, glowing adventure in art! \n  \n • The event is suitable for everyone – no previous experience is required. \n• We provide protective clothing (painter’s overalls\, goggles). Nevertheless we recommend that you do not come in your finest clothing. \n• Please bring a pair of old socks or accept that your socks will be a bit colored. \n•  Included materials: 1 pc. 30x40cm und 1 pc. 40x50cm wood-frame canvas. All paints and utensils. \n• Upgrade Options: Want to create larger artworks or additional ones? Check out our UPGRADE pricelist for action painting. Upgrades to 50x70cm are generally always possible; larger formats might not be possible in fully booked sessions but you can always check with your artist. \n• Duration: approx. 2.5 h \n• Note: Most likely your artworks won’t be dry enough to be safely transported at the end of the session. You can leave them to dry at our studio and arrange a pick-up time or book our shipping service after the session (up to 40x50cm canvas size\, shipping of larger sizes upon request). \n  \nPlease note that we will only hold this event if at least 4 people have registered online at least 48h before the event. In case of a cancellation from our side\, guests who hold a ticket will be informed by mail and the ticket will be either rebooked or completely refunded as desired.
URL:https://www.paintevents.ch/en/event/neon-action-painting-19-09-2025-2/
LOCATION:PaintLounge Limmatstrasse 73\, Limmatstrasse 73\, Zürich\, 8005\, Schweiz
CATEGORIES:Action Painting
ATTACH;FMTTYPE=image/jpeg:https://www.paintevents.ch/wp-content/uploads/2024/09/neon-AP-cover-2.jpg
GEO:47.3824711;8.5342186
X-APPLE-STRUCTURED-LOCATION;VALUE=URI;X-ADDRESS=PaintLounge Limmatstrasse 73 Limmatstrasse 73 Zürich 8005 Schweiz;X-APPLE-RADIUS=500;X-TITLE=Limmatstrasse 73:geo:8.5342186,47.3824711
END:VEVENT
BEGIN:VEVENT
DTSTART;TZID=Europe/Zurich:20250921T140000
DTEND;TZID=Europe/Zurich:20250921T163000
DTSTAMP:20260420T212121
CREATED:20250725T133739Z
LAST-MODIFIED:20250725T133739Z
UID:10003023-1758463200-1758472200@www.paintevents.ch
SUMMARY:Action Painting!
DESCRIPTION:  \n— Deutsch —(EN below) \n  \nUnd… ACTION! Erlebe beim Action Painting eine befreiende und kreative Auszeit\nDiesen Workshop wollen wir Euch bereits seit geraumer Zeit anbieten. Mit dem neuen Studio an der Limmatstrasse 73 ist es jetzt endlich so weit. Dort haben wir einen ganzen Bereich des Ateliers dem Action Painting gewidmet\, in dem Ihr Euch sorglos mit Pinseln\, Spritzpistolen und weiteren Utensilien austoben könnt. Unsere Künstlerin startet mit einer kurzen Erklärung von Grundlagen und Techniken und lässt Euch dann direkt an einem ersten Probewerk experimentieren (30 x 40cm Leinwand). Mit der gewonnen Erfahrung geht es dann an Euer zweites Werk auf einer bespannten Leinwand (1 Stk 40x50cm Leinwand inklusive). \n  \n • Das Event ist für jeden geeignet – es werden keine Vorkenntnisse vorausgesetzt \n• Inklusive Bereitstellung von Schutzkleidung (Maler-Overall\, Schutzbrille). Dennoch empfehlen wir Euch\, nicht in Eurer feinsten Kleidung zu kommen. \n• Bitte bringt ein Paar alte Socken oder nehmt in Kauf\, dass Eure Socken etwas farbig werden. \n• Inklusivmaterial: 1 Stk. 30x40cm Leinwand zum Üben. 1 Stk. 40x50cm Leinwand. Alle Farben und Utensilien. \n• Upgrade-Optionen: Du möchtest grössere Formate erstellen? Schau Dir unsere Upgrade Preisliste fürs Action Painting an. Ein Upgrade auf 50x70cm ist grundsätzlich immer möglich. Grössere Formate sind bei voll belegten Kursen ggf. aus Platzgründen nicht möglich aber Deine Künstlerin gibt Dir dazu vor Ort gerne Auskunft. \n• Dauer: ca. 2 bis 2.5h \n• Hinweis: Wahrscheinlich werden Eure Werke am Ende der Session noch zu nass für einen sicheren Transport sein. Ihr könnt sie dann bei uns trocknen lassen und eine Abholung vereinbaren oder nach der Session unseren Versandservice (bis 40x50cm\, Versand von grösseren Formaten auf Anfrage). \n  \nBitte beachte\, dass wir dieses Event nur durchführen\, wenn sich mindestens 4 Personen spätestens 48h vor dem Event online angemeldet haben. Im Falle einer Absage unsererseits werden die Gäste mit einem Ticket per Mail informiert und das Ticket wird nach Wunsch entweder umgebucht oder komplett zurückerstattet. \n  \n  \n— English — \n  \nAnd… ACTION! Experience a liberating and creative time-out with Action Painting.\nWe have been wanting to offer you this workshop for quite some time now. With the new studio at Limmatstrasse 73\, it’s finally here. At this studio we have dedicated an entire area of the studio to Action Painting\, where you can let off steam with brushes\, spray guns and other utensils. Our artist will start with a short explanation of basics and techniques and then let you experiment directly on a first test piece (30 x 40cm canvas). After that you can apply what you’ve discovered to your second work on a regular wood-frame canvas (1 pc 40x50cm canvas included). \n  \n • The event is suitable for everyone – no previous experience is required. \n• We provide protective clothing (painter’s overalls\, goggles). Nevertheless we recommend that you do not come in your finest clothing. \n• Please bring a pair of old socks or accept that your socks will be a bit colored. \n•  Included materials: 1 pc. 30x40cm canvas for practice. 1 pc. 40x50cm wood-frame canvas. All paints and utensils. \n• Upgrade Options: Want to create larger artworks or additional ones? Check out our UPGRADE pricelist for action painting. Upgrades to 50x70cm are generally always possible; larger formats might not be possible in fully booked sessions but you can always check with your artist. \n• Duration: approx. 2 to 2.5h \n• Note: Most likely your artworks won’t be dry enough to be safely transported at the end of the session. You can leave them to dry at our studio and arrange a pick-up time or book our shipping service after the session (up to 40x50cm canvas size\, shipping of larger sizes upon request). \n  \nPlease note that we will only hold this event if at least 4 people have registered online at least 48h before the event. In case of a cancellation from our side\, guests who hold a ticket will be informed by mail and the ticket will be either rebooked or completely refunded as desired.
URL:https://www.paintevents.ch/en/event/action-painting-21-09-2025/
LOCATION:PaintLounge Limmatstrasse 73\, Limmatstrasse 73\, Zürich\, 8005\, Schweiz
CATEGORIES:Action Painting
ATTACH;FMTTYPE=image/jpeg:https://www.paintevents.ch/wp-content/uploads/2024/06/action-painting-cover-1.jpg
GEO:47.3824711;8.5342186
X-APPLE-STRUCTURED-LOCATION;VALUE=URI;X-ADDRESS=PaintLounge Limmatstrasse 73 Limmatstrasse 73 Zürich 8005 Schweiz;X-APPLE-RADIUS=500;X-TITLE=Limmatstrasse 73:geo:8.5342186,47.3824711
END:VEVENT
END:VCALENDAR